BEGIN:VCALENDAR
VERSION:2.0
PRODID:icalendar-ruby
CALSCALE:GREGORIAN
METHOD:PUBLISH
BEGIN:VEVENT
DTSTAMP:20260423T112727Z
UID:13-342409@forsan.church
DTSTART:20260809T153000Z
DTEND:20260809T163000Z
CLASS:PUBLIC
CREATED:20260422T211018
DESCRIPTION:10:30 am Service
LAST-MODIFIED:20260422T211018
LOCATION:
SUMMARY:10:30 am Service
URL;VALUE=URI:https://forsanbaptist.org/events/10-30-am-service/2026-08-09
END:VEVENT
END:VCALENDAR
