BEGIN:VCALENDAR
VERSION:2.0
PRODID:icalendar-ruby
CALSCALE:GREGORIAN
METHOD:PUBLISH
BEGIN:VEVENT
DTSTAMP:20260423T130825Z
UID:13-342541@forsan.church
DTSTART:20260816T153000Z
DTEND:20260816T163000Z
CLASS:PUBLIC
CREATED:20260423T064004
DESCRIPTION:10:30 am Service
LAST-MODIFIED:20260423T064004
LOCATION:
SUMMARY:10:30 am Service
URL;VALUE=URI:https://forsanbaptist.org/events/10-30-am-service/2026-08-16
END:VEVENT
END:VCALENDAR
