BEGIN:VCALENDAR
VERSION:2.0
PRODID:icalendar-ruby
CALSCALE:GREGORIAN
METHOD:PUBLISH
BEGIN:VEVENT
DTSTAMP:20260423T145648Z
UID:13-342673@forsan.church
DTSTART:20260823T153000Z
DTEND:20260823T163000Z
CLASS:PUBLIC
CREATED:20260423T093339
DESCRIPTION:10:30 am Service
LAST-MODIFIED:20260423T093339
LOCATION:
SUMMARY:10:30 am Service
URL;VALUE=URI:https://forsanbaptist.org/events/10-30-am-service/2026-08-23
END:VEVENT
END:VCALENDAR
