BEGIN:VCALENDAR
VERSION:2.0
PRODID:icalendar-ruby
CALSCALE:GREGORIAN
METHOD:PUBLISH
BEGIN:VEVENT
DTSTAMP:20260423T183806Z
UID:13-342806@forsan.church
DTSTART:20260906T153000Z
DTEND:20260906T163000Z
CLASS:PUBLIC
CREATED:20260423T122852
DESCRIPTION:10:30 am Service
LAST-MODIFIED:20260423T122852
LOCATION:
SUMMARY:10:30 am Service
URL;VALUE=URI:https://forsanbaptist.org/events/10-30-am-service/2026-09-06
END:VEVENT
END:VCALENDAR
