BEGIN:VCALENDAR
VERSION:2.0
PRODID:icalendar-ruby
CALSCALE:GREGORIAN
METHOD:PUBLISH
BEGIN:VEVENT
DTSTAMP:20260423T221518Z
UID:13-342939@forsan.church
DTSTART:20260920T153000Z
DTEND:20260920T163000Z
CLASS:PUBLIC
CREATED:20260423T152450
DESCRIPTION:10:30 am Service
LAST-MODIFIED:20260423T152450
LOCATION:
SUMMARY:10:30 am Service
URL;VALUE=URI:https://forsanbaptist.org/events/10-30-am-service/2026-09-20
END:VEVENT
END:VCALENDAR
