BEGIN:VCALENDAR
VERSION:2.0
PRODID:icalendar-ruby
CALSCALE:GREGORIAN
METHOD:PUBLISH
BEGIN:VEVENT
DTSTAMP:20260424T035748Z
UID:13-343204@forsan.church
DTSTART:20261011T153000Z
DTEND:20261011T163000Z
CLASS:PUBLIC
CREATED:20260423T211221
DESCRIPTION:10:30 am Service
LAST-MODIFIED:20260423T211221
LOCATION:
SUMMARY:10:30 am Service
URL;VALUE=URI:https://forsanbaptist.org/events/10-30-am-service/2026-10-11
END:VEVENT
END:VCALENDAR
