BEGIN:VCALENDAR
VERSION:2.0
PRODID:icalendar-ruby
CALSCALE:GREGORIAN
METHOD:PUBLISH
BEGIN:VEVENT
DTSTAMP:20260424T074028Z
UID:13-343206@forsan.church
DTSTART:20261025T153000Z
DTEND:20261025T163000Z
CLASS:PUBLIC
CREATED:20260423T211221
DESCRIPTION:10:30 am Service
LAST-MODIFIED:20260423T211221
LOCATION:
SUMMARY:10:30 am Service
URL;VALUE=URI:https://forsanbaptist.org/events/10-30-am-service/2026-10-25
END:VEVENT
END:VCALENDAR
